BEGIN:VCALENDAR
VERSION:2.0
PRODID:-//Chem Scope, Inc. - ECPv6.15.17//NONSGML v1.0//EN
CALSCALE:GREGORIAN
METHOD:PUBLISH
X-WR-CALNAME:Chem Scope, Inc.
X-ORIGINAL-URL:https://www.chem-scope.com
X-WR-CALDESC:Events for Chem Scope, Inc.
REFRESH-INTERVAL;VALUE=DURATION:PT1H
X-Robots-Tag:noindex
X-PUBLISHED-TTL:PT1H
BEGIN:VTIMEZONE
TZID:America/New_York
BEGIN:DAYLIGHT
TZOFFSETFROM:-0500
TZOFFSETTO:-0400
TZNAME:EDT
DTSTART:20250309T070000
END:DAYLIGHT
BEGIN:STANDARD
TZOFFSETFROM:-0400
TZOFFSETTO:-0500
TZNAME:EST
DTSTART:20251102T060000
END:STANDARD
BEGIN:DAYLIGHT
TZOFFSETFROM:-0500
TZOFFSETTO:-0400
TZNAME:EDT
DTSTART:20260308T070000
END:DAYLIGHT
BEGIN:STANDARD
TZOFFSETFROM:-0400
TZOFFSETTO:-0500
TZNAME:EST
DTSTART:20261101T060000
END:STANDARD
BEGIN:DAYLIGHT
TZOFFSETFROM:-0500
TZOFFSETTO:-0400
TZNAME:EDT
DTSTART:20270314T070000
END:DAYLIGHT
BEGIN:STANDARD
TZOFFSETFROM:-0400
TZOFFSETTO:-0500
TZNAME:EST
DTSTART:20271107T060000
END:STANDARD
END:VTIMEZONE
BEGIN:VEVENT
DTSTART;TZID=America/New_York:20260507T080000
DTEND;TZID=America/New_York:20260507T170000
DTSTAMP:20260419T150520
CREATED:20250116T164127Z
LAST-MODIFIED:20251030T173525Z
UID:10006584-1778140800-1778173200@www.chem-scope.com
SUMMARY:8Hour EPA RRP Lead Initial Training (In-Person)\, May 7th\, 2026\, 8am-5pm
DESCRIPTION:Cost: $260 per student.\nEPA’s Renovation\, Repair and Painting Rule (RRP – 40 CFR 745) applies to pre-1978 housing and/or child occupied facilities (child occupied facilities largely refers to nursery schools\, kindergartens and day cares).\nRRP renovations\, conducted for compensation\, must be performed by Certified Firms using Certified Renovators and lead-safe work practices. Firms may begin applying for certification prior to taking the training. Accredited training is required for one to become a Certified Renovator.\nRRP certification also meets HUD’s training requirements.\nA refresher course is needed every 5 years to maintain certification.\nRequirements for Certificate Award: A course certificate will be awarded to those who successfully complete the course. Attendance of the entire class\, demonstrating successful completion of hands-on activities\, payment and passing an exam are required.\n\n *This accreditation for Chem Scope\, Inc. pertains only to training individuals in states such as CT who do not have EPA Authorized RRP programs\, to obtain certification to conduct renovation\, repair and painting pursuant to Section 402 of the Toxic Substance Control Act (TSCA)(15 U.S.C. 2682). These courses do not certify one to do abatement and additional training is needed for OSHA compliance. \n\nCancellation policy\nClass sizes are restricted. In order to provide training to people on waiting lists\, we require at least 1 business day (24 hour) notification that a student will not attend a class. Except in the case of emergencies or illness\, including illness symptoms\, quarantine\, or diagnosis\, we reserve the right to… \n\nIn the case of same-day cancellation for refresher training classes\, refuse refund and retain 100% of the price of each ticket purchased but not used by the registered party. In this case\, students will have to purchase a new ticket to attend a refresher on a different date and cannot transfer their ticket fee.\nIn the case of same-day cancellation for initial training classes\, retain a non-refundable fee equal to 50% of the price of each ticket purchased but not used by the registered party.
URL:https://www.chem-scope.com/training/8-hour-epa-rrp-lead-initial-training-in-person-05-07-2026/
LOCATION:Chem Scope Inc.\, 8 Moulthrop Street\, North Haven\, CT\, 06473\, United States
CATEGORIES:8 Hour Lead EPA-RRP Initial (40 CFR 745)
ATTACH;FMTTYPE=image/jpeg:https://www.chem-scope.com/wp-content/uploads/2013/11/2kIhaNIdh6MddI5yZLDIPVzyuOIn658WzFW7o64QmS4.jpg
ORGANIZER;CN="Chem Scope Inc.":MAILTO:chem.scope@snet.net
GEO:41.3520702;-72.8619983
X-APPLE-STRUCTURED-LOCATION;VALUE=URI;X-ADDRESS=Chem Scope Inc. 8 Moulthrop Street North Haven CT 06473 United States;X-APPLE-RADIUS=500;X-TITLE=8 Moulthrop Street:geo:-72.8619983,41.3520702
END:VEVENT
BEGIN:VEVENT
DTSTART;TZID=America/New_York:20260508T080000
DTEND;TZID=America/New_York:20260508T120000
DTSTAMP:20260419T150520
CREATED:20240129T164156Z
LAST-MODIFIED:20251229T193442Z
UID:10006622-1778227200-1778241600@www.chem-scope.com
SUMMARY:4-Hour Virtual Asbestos Inspector Refresher 8am-12pm
DESCRIPTION:Cost: $175 \nDPH APPROVED VIRTUAL ASBESTOS REFRESHER COURSE: \nIf a student goes passed the last refresher due date by one day\, the student cannot work in the discipline. Failure to take a refresher for 2 years requires the student to take the initial course again.  \nGeneral Description: \nAsbestos Inspector courses offered at Chem Scope are CT DPH approved and meet MAP requirements of AHERA\, ASHARA\, NESHAP\, CONES and OSHA. Students who successfully complete the initial course become EPA accredited in the particular discipline and are eligible for licensing in CT and the CONES states. \nRefresher courses are required annually in each discipline for which the student is accredited.  Refresher training for inspectors is 1/2 a day.  The inspectors and inspector / management planners must take the courses separately. All refresher courses are separate and distinct courses and not combined with any other training during the period of the refresher course. \nRefresher training includes a review and discussion of changes in and interpretation of applicable state and federal laws\, regulations\, policies and guidelines\, developments or changes in state-of-the art procedures and equipment and a review of key areas of initial training specific to each discipline.  \nVerification of accreditation information: \nTraining providers of refresher courses must confirm that their students possess valid accreditation before granting course admission. \nVirtual Training Requirements \nRequirements for attending virtual training include (1) a government-issued photo ID\, (2) a PC or Mac computer\, (3) a stable internet connection\, (4) a functioning webcam\, (5) a functioning keyboard\, and (6) a functioning mouse. Tablets will not be supported. A functional headset with microphone will be recommended. Each student must be able to download and use the most recent version of Zoom. Students must be able to type to participate in worksheet-based online hands-on activities\, or they must be able to print the worksheet\, answer by writing\, and send a picture to the instructor. \nScreenshots will be taken throughout the class to document that each student is present for the entire course. Students must arrive on time to class (typically\, 8:00 am EST). Students are also encouraged to be present in the class 30 to 15 minutes early to allow for troubleshooting. \nMany of our students will be new to virtual training. If you have questions or concerns about whether virtual training is right for you\, please contact our training instructor Leigh Elijah (leigh@chem-scope.com).  \n\nCancellation policy\nClass sizes are restricted. In order to provide training to people on waiting lists\, we require at least 1 business day (24 hour) notification that a student will not attend a class. Except in the case of emergencies or illness\, including illness symptoms\, quarantine\, or diagnosis\, we reserve the right to… \n\nIn the case of same-day cancellation for refresher training classes\, refuse refund and retain 100% of the price of each ticket purchased but not used by the registered party. In this case\, students will have to purchase a new ticket to attend a refresher on a different date and cannot transfer their ticket fee.\nIn the case of same-day cancellation for initial training classes\, retain a non-refundable fee equal to 50% of the price of each ticket purchased but not used by the registered party.
URL:https://www.chem-scope.com/training/4hour-virtual-asbestos-inspector-refresher-05-08-2026-8am-12pm/
LOCATION:Virtual
CATEGORIES:Asbestos Inspector Refresher
ATTACH;FMTTYPE=image/jpeg:https://www.chem-scope.com/wp-content/uploads/2013/06/2kIhaNIdh6MddI5yZLDIPVzyuOIn658WzFW7o64QmS4-100x67.jpg
ORGANIZER;CN="Chem Scope Inc.":MAILTO:chem.scope@snet.net
END:VEVENT
END:VCALENDAR